Workbook

Sheet XXXXXXXXX

Sheet BIEU 113
A1: ỦY BAN NHÂN DÂN | E1: Biểu số 1
A2: PHƯỜNG ĐẠI THÀNH
A4: CÂN ĐỐI DỰ TOÁN NGÂN SÁCH PHƯỜNG 6 THÁNG ĐẦU NĂM 2026
A5: (Kèm theo Quyết định số: /QĐ-UBND ngày tháng 7 năm 2026 của Chủ tịch UBND phường Đại Thành)
F6: Đơn vị: đồng
A7: Stt | B7: Nội dung | C7: Dự toán năm 2026 | D7: Điều chỉnh, bổ sung dự toán năm 2026 | E7: Thực hiện 06 tháng đầu năm 2026 | F7: So sánh
A8: A | B8: B | C8: 1 | D8: 2 | E8: 3 | F8: 4=3/2
A9: I | B9: TỔNG SỐ THU | C9: =C10+C11+C12+C15+C16 -> 165402000000 | D9: =D10+D11+D12+D15+D16 -> 197809286396 | E9: =E10+E11+E12+E15+E16 -> 112162907363 | F9: =E9/D9*100 -> 56.702549
A10: 1 | B10: Các khoản thu xã hưởng 100% | C10: 5735000000 | D10: 5735000000 | E10: 4686084792 | F10: =E10/D10*100 -> 81.710284
A11: 2 | B11: Các khoản thu phân chia theo tỷ lệ (1) | C11: 1265000000 | D11: 1265000000 | E11: 1200235793 | F11: =E11/D11*100 -> 94.8803
A12: 3 | B12: Thu bổ sung | C12: =C13+C14 -> 158402000000 | D12: =D13+D14 -> 183221720000 | E12: =E13+E14 -> 101343720000 | F12: =E12/D12*100 -> 55.312067
B13: - Thu bổ sung cân đối | C13: 151648000000 | D13: 151648000000 | E13: 75822000000 | F13: =E13/D13*100 -> 49.998681
B14: - Thu bổ sung có mục tiêu | C14: 6754000000 | D14: 31573720000 | E14: 25521720000 | F14: =E14/D14*100 -> 80.83216
A15: 4 | B15: Thu kết dư ngân sách năm trước | C15: 0 | D15: 2654699618 | F15: =E15/D15*100 -> 0
A16: 5 | B16: Thu chuyển nguồn | C16: 0 | D16: 4932866778 | E16: 4932866778 | F16: =E16/D16*100 -> 100
A17: II | B17: TỔNG SỐ CHI | C17: =C18+C19+C20 -> 165402000000 | D17: =D18+D19+D20 -> 197809286396 | E17: =E18+E19+E20 -> 90142476288 | F17: =E17/D17*100 -> 45.570397
A18: 1 | B18: Chi đầu tư phát triển | C18: 23404000000 | D18: 23404000000 | E18: 8593965410 | F18: =E18/D18*100 -> 36.720071
A19: 2 | B19: Chi thường xuyên | C19: 138887000000 | D19: =174405286396-3111000000 -> 171294286396 | E19: 81548510878 | F19: =E19/D19*100 -> 47.607257
A20: 3 | B20: Dự phòng | C20: 3111000000 | D20: 3111000000 | F20: =E20/D20*100 -> 0
A22: Ghi chú: (1) Bao gồm 4 khoản thuế, lệ phí luật NSNN quy định cho ngân sách xã hưởng và những khoản thu ngân sách địa phương được hưởng dùng để phân chia theo tỷ lệ phần trăm (%) cho xã

Sheet BIEU 114
A1: ỦY BAN NHÂN DÂN | H1: Biểu số 2
A2: ='BIEU 113'!A2:B2 -> PHƯỜNG ĐẠI THÀNH
A4: THỰC HIỆN THU NGÂN SÁCH PHƯỜNG 6 THÁNG ĐẦU NĂM 2026
A5: ='BIEU 113'!A5:F5 -> (Kèm theo Quyết định số: /QĐ-UBND ngày tháng 7 năm 2026 của Chủ tịch UBND phường Đại Thành)
I6: Đơn vị: đồng
A7: Stt | B7: Nội dung | C7: Dự toán năm 2026 | E7: Điều chỉnh, bổ sung dự toán năm 2026 | G7: Thực hiện 06 tháng đầu năm 2026 | I7: So sánh (%)
C8: Thu NSNN | D8: Thu NSX | E8: Thu NSNN | F8: Thu NSX | G8: Thu NSNN | H8: Thu NSX | I8: Thu NSNN | J8: Thu NSX
A9: A | B9: B | C9: 1 | D9: 2 | E9: 3 | F9: 4 | G9: 5 | H9: 6 | I9: 7=5/3 | J9: 8=6/4
B10: TỔNG THU | C10: =C11+C16+C24+C25+C26+C27 -> 172062000000 | D10: =D11+D16+D24+D25+D26+D27 -> 165402000000 | E10: =E11+E16+E24+E25+E26+E27 -> 204469286396 | F10: =F11+F16+F24+F25+F26+F27 -> 197809286396 | G10: =G11+G16+G24+G25+G26+G27 -> 119799424543 | H10: =H11+H16+H24+H25+H26+H27 -> 112162907363 | I10: =G10/E10*100 -> 58.590425 | J10: =H10/F10*100 -> 56.702549
A11: I | B11: Các khoản thu 100% | C11: =C12+C13+C14+C15 -> 5735000000 | D11: =D12+D13+D14+D15 -> 5735000000 | E11: =E12+E13+E14+E15 -> 5735000000 | F11: =F12+F13+F14+F15 -> 5735000000 | G11: =G12+G13+G14+G15 -> 4686084792 | H11: =H12+H13+H14+H15 -> 4686084792 | I11: =G11/E11*100 -> 81.710284 | J11: =H11/F11*100 -> 81.710284
B12: Lệ phí trước bạ | C12: 3080000000 | D12: 3080000000 | E12: 3080000000 | F12: 3080000000 | G12: =707702306+1101148400+4150000+555677708 -> 2368678414 | H12: =707702306+1101148400+4150000+555677708 -> 2368678414 | I12: =G12/E12*100 -> 76.905143 | J12: =H12/F12*100 -> 76.905143
B13: Thuế TNCN | C13: 2640000000 | D13: 2640000000 | E13: 2640000000 | F13: 2640000000 | G13: 2279077224 | H13: 2279077224 | I13: =G13/E13*100 -> 86.328683 | J13: =H13/F13*100 -> 86.328683
B14: Thuế tiêu thụ đặc biệt | C14: 15000000 | D14: 15000000 | E14: 15000000 | F14: 15000000
B15: Thuế sử dụng đất phi nông nghiệp | G15: 38329154 | H15: 38329154
A16: II | B16: Các khoản thu phân chia theo tỷ lệ phần trăm (%) | C16: =C17+C21 -> 7925000000 | D16: =D17+D21 -> 1265000000 | E16: =E17+E21 -> 7925000000 | F16: =F17+F21 -> 1265000000 | G16: =G17+G21 -> 8836752973 | H16: =H17+H21 -> 1200235793 | I16: =G16/E16*100 -> 111.50477 | J16: =H16/F16*100 -> 94.8803
A17: 1 | B17: Các khoản thu phân chia | C17: =C18+C19+C20 -> 4010000000 | D17: =D18+D19+D20 -> 330000000 | E17: =E18+E19+E20 -> 4010000000 | F17: =F18+F19+F20 -> 330000000 | G17: =G18+G19+G20 -> 5860652384 | H17: =H18+H19+H20 -> 223564921 | I17: =G17/E17*100 -> 146.15093 | J17: =H17/F17*100 -> 67.746946
B18: - Phí lệ phí | C18: 130000000 | D18: 30000000 | E18: 130000000 | F18: 30000000 | G18: =2581037414-G12 -> 212359000 | H18: =2442450414-H12 -> 73772000 | I18: =G18/E18*100 -> 163.35308 | J18: =H18/F18*100 -> 245.90667
B19: - Thuế tiền sử dụng đất | C19: 3500000000 | E19: 3500000000 | G19: 5145583780 | I19: =G19/E19*100 -> 147.01668
B20: - Thu khác | C20: 380000000 | D20: 300000000 | E20: 380000000 | F20: 300000000 | G20: =303869514+198840090 -> 502709604 | H20: =60001919+89791002 -> 149792921 | I20: =G20/E20*100 -> 132.292 | J20: =H20/F20*100 -> 49.930974
A21: 2 | B21: Các khoản thu phân chia khác do cấp tỉnh quy định | C21: =C22+C23 -> 3915000000 | D21: =D22+D23 -> 935000000 | E21: =E22+E23 -> 3915000000 | F21: =F22+F23 -> 935000000 | G21: =G22+G23 -> 2976100589 | H21: =H22+H23 -> 976670872 | I21: =G21/E21*100 -> 76.017895 | J21: =H21/F21*100 -> 104.45678
B22: - Thuế TNCN | C22: 175000000 | D22: 5000000 | E22: 175000000 | F22: 5000000 | G22: 397131958 | I22: =G22/E22*100 -> 226.93255 | J22: =H22/F22*100 -> 0
B23: - Thuế GTGT | C23: 3740000000 | D23: 930000000 | E23: 3740000000 | F23: 930000000 | G23: 2578968631 | H23: 976670872 | I23: =G23/E23*100 -> 68.956381 | J23: =H23/F23*100 -> 105.01837
A24: III | B24: Thu viện trợ không hoàn lại trực tiếp cho xã (nếu có)
A25: IV | B25: Thu chuyển nguồn | C25: =D25 -> 0 | D25: 0 | E25: 4932866778 | F25: 4932866778 | G25: 4932866778 | H25: 4932866778 | I25: =G25/E25*100 -> 100 | J25: =H25/F25*100 -> 100
A26: V | B26: Thu kết dư ngân sách năm trước | C26: =D26 -> 0 | D26: 0 | E26: 2654699618 | F26: 2654699618
A27: VI | B27: Thu bổ sung từ ngân sách cấp trên | C27: =C28+C29 -> 158402000000 | D27: =D28+D29 -> 158402000000 | E27: =E28+E29 -> 183221720000 | F27: =F28+F29 -> 183221720000 | G27: =G28+G29 -> 101343720000 | H27: =H28+H29 -> 101343720000 | I27: =G27/E27*100 -> 55.312067 | J27: =H27/F27*100 -> 55.312067
B28: - Thu bổ sung cân đối | C28: =D28 -> 151648000000 | D28: 151648000000 | E28: 151648000000 | F28: 151648000000 | G28: 75822000000 | H28: 75822000000 | I28: =G28/E28*100 -> 49.998681 | J28: =H28/F28*100 -> 49.998681
B29: - Thu bổ sung có mục tiêu | C29: =D29 -> 6754000000 | D29: 6754000000 | E29: 31573720000 | F29: 31573720000 | G29: 25521720000 | H29: 25521720000 | I29: =G29/E29*100 -> 80.83216 | J29: =H29/F29*100 -> 80.83216

Sheet BIEU 115
A1: ỦY BAN NHÂN DÂN | L1: Biểu số 3
A2: ='BIEU 114'!A2:B2 -> PHƯỜNG ĐẠI THÀNH
A4: THỰC HIỆN CHI NGÂN SÁCH PHƯỜNG 6 THÁNG ĐẦU NĂM 2026
A5: ='BIEU 114'!A5:J5 -> (Kèm theo Quyết định số: /QĐ-UBND ngày tháng 7 năm 2026 của Chủ tịch UBND phường Đại Thành)
M6: Đơn vị: đồng
A7: Stt | B7: Nội dung | C7: Dự toán năm 2026 | F7: Điều chỉnh, bổ sung dự toán năm 2026 | I7: Thực hiện 06 tháng đầu năm 2026 | L7: So sánh (%)
C8: Tổng số | D8: XDCB | E8: TX | F8: Tổng số | G8: XDCB | H8: TX | I8: Tổng số | J8: XDCB | K8: TX | L8: Tổng số | M8: XDCB | N8: TX
A9: A | B9: B | C9: 1 | D9: 2 | E9: 3 | F9: 4 | G9: 5 | H9: 6 | I9: 7 | J9: 8 | K9: 9 | L9: 10=7/4 | M9: 11=8/5 | N9: 12=9/6
B10: Tổng chi | C10: =SUM(C12:C19) -> 165402000000 | D10: =SUM(D12:D19) -> 23404000000 | E10: =SUM(E12:E19) -> 141998000000 | F10: =SUM(F12:F19) -> 197809286396 | G10: =SUM(G12:G19) -> 23404000000 | H10: =SUM(H12:H19) -> 174405286396 | I10: =SUM(I12:I19) -> 90142476288 | J10: =SUM(J12:J19) -> 8593965410 | K10: =SUM(K12:K19) -> 81548510878 | L10: =I10/F10*100 -> 45.570397 | M10: =J10/G10*100 -> 36.720071 | N10: =K10/H10*100 -> 46.75805
B11: Trong đó
A12: 1 | B12: Chi XDCB | C12: =D12+E12 -> 23404000000 | D12: 23404000000 | F12: =G12+H12 -> 23404000000 | G12: 23404000000 | I12: =J12+K12 -> 8593965410 | J12: 8593965410 | L12: =I12/F12*100 -> 36.720071 | M12: =J12/G12*100 -> 36.720071
A13: 2 | B13: Chi giáo dục | C13: =D13+E13 -> 71990000000 | E13: 71990000000 | F13: =G13+H13 -> 71990000000 | H13: 71990000000 | I13: =J13+K13 -> 33803570379 | K13: 33803570379 | L13: =I13/F13*100 -> 46.955925 | N13: =K13/H13*100 -> 46.955925
A14: 3 | B14: Chi bảo vệ môi trường | C14: =D14+E14 -> 2000000000 | E14: 2000000000 | F14: =G14+H14 -> 2096923000 | H14: 2096923000 | I14: =J14+K14 -> 2004951000 | K14: 2004951000 | L14: =I14/F14*100 -> 95.613954 | N14: =K14/H14*100 -> 95.613954
A15: 4 | B15: Chi các hoạt động kinh tế | C15: =D15+E15 -> 3000000000 | E15: 3000000000 | F15: =G15+H15 -> 7212000000 | H15: 7212000000 | I15: =J15+K15 -> 4698638712 | K15: 4698638712 | L15: =I15/F15*100 -> 65.150287 | N15: =K15/H15*100 -> 65.150287
A16: 5 | B16: Chi hoạt động của cơ quan quản lý Nhà nước, Đảng, đoàn thể | C16: =D16+E16 -> 55143000000 | E16: 55143000000 | F16: =G16+H16 -> 58421643396 | H16: 58421643396 | I16: =J16+K16 -> 41041350787 | K16: =90142476288-K13-K14-K15-J12 -> 41041350787 | L16: =I16/F16*100 -> 70.25025 | N16: =K16/H16*100 -> 70.25025
A17: 6 | B17: Chi hỗ trợ mục tiêu | C17: =D17+E17 -> 6754000000 | E17: 6754000000 | F17: =G17+H17 -> 31573720000 | H17: 31573720000 | I17: =J17+M18 -> 0
A18: 7 | B18: Dự phòng ngân sách | C18: =D18+E18 -> 3111000000 | E18: ='BIEU 113'!C20 -> 3111000000 | F18: =G18+H18 -> 3111000000 | H18: 3111000000 | I18: =J18+K18 -> 0
F19: =G19+H19 -> 0
